BEGIN:VCALENDAR
VERSION:2.0
PRODID:SchoolNow
CALSCALE:GREGORIAN
BEGIN:VEVENT
UID:3395191a-900e-11f0-a9da-0a58a9feac02
DTSTAMP:20251217T020516Z
SUMMARY:Tempo Pie Sale
URL;VALUE=URI:https://www.sau14.org/emhs/calendar/8615192/tempo-pie-sale
DTSTART;VALUE=DATE:20251004
DTEND;VALUE=DATE:20251005
END:VEVENT
END:VCALENDAR
