BEGIN:VCALENDAR
VERSION:2.0
PRODID:SchoolNow
CALSCALE:GREGORIAN
BEGIN:VEVENT
UID:33951bb8-900e-11f0-aa2f-0a58a9feac02
DTSTAMP:20251217T020516Z
SUMMARY:Tempo Pie Sale
URL;VALUE=URI:https://www.sau14.org/emhs/calendar/8615195/tempo-pie-sale
DTSTART;VALUE=DATE:20251007
DTEND;VALUE=DATE:20251008
END:VEVENT
END:VCALENDAR
