BEGIN:VCALENDAR
VERSION:2.0
PRODID:SchoolNow
CALSCALE:GREGORIAN
BEGIN:VEVENT
UID:33951d7a-900e-11f0-8803-0a58a9feac02
DTSTAMP:20251217T020516Z
SUMMARY:Tempo Pie Sale
URL;VALUE=URI:https://www.sau14.org/emhs/calendar/8615197/tempo-pie-sale
DTSTART;VALUE=DATE:20251009
DTEND;VALUE=DATE:20251010
END:VEVENT
END:VCALENDAR
