BEGIN:VCALENDAR
VERSION:2.0
PRODID:SchoolNow
CALSCALE:GREGORIAN
BEGIN:VEVENT
UID:33952392-900e-11f0-a1b0-0a58a9feac02
DTSTAMP:20251217T020516Z
SUMMARY:Tempo Pie Sale
URL;VALUE=URI:https://www.sau14.org/emhs/calendar/8615204/tempo-pie-sale
DTSTART;VALUE=DATE:20251016
DTEND;VALUE=DATE:20251017
END:VEVENT
END:VCALENDAR
