BEGIN:VCALENDAR
VERSION:2.0
PRODID:SchoolNow
CALSCALE:GREGORIAN
BEGIN:VEVENT
UID:3395263a-900e-11f0-8257-0a58a9feac02
DTSTAMP:20251217T020516Z
SUMMARY:Tempo Pie Sale
URL;VALUE=URI:https://www.sau14.org/emhs/calendar/8615207/tempo-pie-sale
DTSTART;VALUE=DATE:20251019
DTEND;VALUE=DATE:20251020
END:VEVENT
END:VCALENDAR
