BEGIN:VCALENDAR
VERSION:2.0
PRODID:SchoolNow
CALSCALE:GREGORIAN
BEGIN:VEVENT
UID:33953378-900e-11f0-b5ca-0a58a9feac02
DTSTAMP:20251217T020516Z
SUMMARY:Tempo Pie Sale
URL;VALUE=URI:https://www.sau14.org/emhs/calendar/8615222/tempo-pie-sale
DTSTART;VALUE=DATE:20251103
DTEND;VALUE=DATE:20251104
END:VEVENT
END:VCALENDAR
