BEGIN:VCALENDAR
VERSION:2.0
PRODID:SchoolNow
CALSCALE:GREGORIAN
BEGIN:VEVENT
UID:339536e8-900e-11f0-b48e-0a58a9feac02
DTSTAMP:20251217T020516Z
SUMMARY:Tempo Pie Sale
URL;VALUE=URI:https://www.sau14.org/emhs/calendar/8615226/tempo-pie-sale
DTSTART;VALUE=DATE:20251107
DTEND;VALUE=DATE:20251108
END:VEVENT
END:VCALENDAR
