BEGIN:VCALENDAR
VERSION:2.0
PRODID:SchoolNow
CALSCALE:GREGORIAN
BEGIN:VEVENT
UID:33953c1a-900e-11f0-9438-0a58a9feac02
DTSTAMP:20251217T020516Z
SUMMARY:Tempo Pie Sale
URL;VALUE=URI:https://www.sau14.org/emhs/calendar/8615232/tempo-pie-sale
DTSTART;VALUE=DATE:20251113
DTEND;VALUE=DATE:20251114
END:VEVENT
END:VCALENDAR
