BEGIN:VCALENDAR
VERSION:2.0
PRODID:SchoolNow
CALSCALE:GREGORIAN
BEGIN:VEVENT
UID:148698da-9272-11f0-9a50-0248979b5631
DTSTAMP:20251217T020514Z
SUMMARY:EMHS Community Service Day
URL;VALUE=URI:https://www.sau14.org/emhs/calendar/8626013/emhs-community-se
 rvice-day
DTSTART:20250916T183000Z
DTEND:20250916T193000Z
END:VEVENT
END:VCALENDAR
