BEGIN:VCALENDAR
VERSION:2.0
PRODID:SchoolNow
CALSCALE:GREGORIAN
BEGIN:VEVENT
UID:14869c4a-9272-11f0-89f3-0248979b5631
DTSTAMP:20251217T020514Z
SUMMARY:Radio Show Auditions
URL;VALUE=URI:https://www.sau14.org/emhs/calendar/8626014/radio-show-auditi
 ons
DTSTART:20251006T183000Z
DTEND:20251006T193000Z
END:VEVENT
END:VCALENDAR
