BEGIN:VCALENDAR
VERSION:2.0
PRODID:SchoolNow
CALSCALE:GREGORIAN
BEGIN:VEVENT
UID:14869d8a-9272-11f0-96d6-0248979b5631
DTSTAMP:20251217T020514Z
SUMMARY:Radio Show Auditions
URL;VALUE=URI:https://www.sau14.org/emhs/calendar/8626015/radio-show-auditi
 ons
DTSTART:20251007T183000Z
DTEND:20251007T193000Z
END:VEVENT
END:VCALENDAR
