BEGIN:VCALENDAR
VERSION:2.0
PRODID:SchoolNow
CALSCALE:GREGORIAN
BEGIN:VEVENT
UID:14869ea2-9272-11f0-a20b-0248979b5631
DTSTAMP:20251217T020514Z
SUMMARY:Washington DC Meeting
LOCATION:Laura Dodge Cafe
URL;VALUE=URI:https://www.sau14.org/emhs/calendar/8626016/washington-dc-mee
 ting
DTSTART:20251007T220000Z
DTEND:20251007T223000Z
END:VEVENT
END:VCALENDAR
