BEGIN:VCALENDAR
VERSION:2.0
PRODID:SchoolNow
CALSCALE:GREGORIAN
BEGIN:VEVENT
UID:14869fa6-9272-11f0-80cb-0248979b5631
DTSTAMP:20251217T020514Z
SUMMARY:Financial Aid 101 Meeting
LOCATION:MS Art Room M108
URL;VALUE=URI:https://www.sau14.org/emhs/calendar/8626017/financial-aid-101
 -meeting
DTSTART:20251014T220000Z
DTEND:20251014T230000Z
END:VEVENT
END:VCALENDAR
