BEGIN:VCALENDAR
VERSION:2.0
PRODID:SchoolNow
CALSCALE:GREGORIAN
BEGIN:VEVENT
UID:1486a17c-9272-11f0-90e6-0248979b5631
DTSTAMP:20251217T020514Z
SUMMARY:Drama Club Production - Radio Show
LOCATION:Epping Playhouse
URL;VALUE=URI:https://www.sau14.org/emhs/calendar/8626019/drama-club-produc
 tion-radio-show
DTSTART:20260131T000000Z
DTEND:20260131T020000Z
END:VEVENT
END:VCALENDAR
