BEGIN:VCALENDAR
VERSION:2.0
PRODID:SchoolNow
CALSCALE:GREGORIAN
BEGIN:VEVENT
UID:0d8d24ce-930b-11f0-b9c6-0a58a9feac02
DTSTAMP:20251217T020514Z
SUMMARY:Elementary Gen Music Grades 1-3
LOCATION:Allen Gym
URL;VALUE=URI:https://www.sau14.org/emhs/calendar/8628764/elementary-gen-mu
 sic-grades-1-3
DTSTART:20251208T230000Z
DTEND:20251209T000000Z
END:VEVENT
END:VCALENDAR
