BEGIN:VCALENDAR
VERSION:2.0
PRODID:SchoolNow
CALSCALE:GREGORIAN
BEGIN:VEVENT
UID:0d8d287a-930b-11f0-9cbd-0a58a9feac02
DTSTAMP:20251217T020514Z
SUMMARY:Elementary Gen Music Grades 4 and 5 \, Band and Chorus
LOCATION:Allen Gym
URL;VALUE=URI:https://www.sau14.org/emhs/calendar/8628765/elementary-gen-mu
 sic-grades-4-and-5-band-and-chorus
DTSTART:20251209T230000Z
DTEND:20251210T000000Z
END:VEVENT
END:VCALENDAR
