BEGIN:VCALENDAR
VERSION:2.0
PRODID:SchoolNow
CALSCALE:GREGORIAN
BEGIN:VEVENT
UID:0d8d29ce-930b-11f0-85ad-0a58a9feac02
DTSTAMP:20251217T020514Z
SUMMARY:Elementary Make - Up Date
LOCATION:Allen Gym
URL;VALUE=URI:https://www.sau14.org/emhs/calendar/8628766/elementary-make-u
 p-date
DTSTART:20251210T230000Z
DTEND:20251211T000000Z
END:VEVENT
END:VCALENDAR
