BEGIN:VCALENDAR
VERSION:2.0
PRODID:SchoolNow
CALSCALE:GREGORIAN
BEGIN:VEVENT
UID:0d8d2af0-930b-11f0-9a50-0a58a9feac02
DTSTAMP:20251217T020514Z
SUMMARY:EMHS Winter Concert
LOCATION:Allen Gym
URL;VALUE=URI:https://www.sau14.org/emhs/calendar/8628767/emhs-winter-conce
 rt
DTSTART:20251216T230000Z
DTEND:20251217T010000Z
END:VEVENT
END:VCALENDAR
