BEGIN:VCALENDAR
VERSION:2.0
PRODID:SchoolNow
CALSCALE:GREGORIAN
BEGIN:VEVENT
UID:0d8d2c08-930b-11f0-aa71-0a58a9feac02
DTSTAMP:20251217T020514Z
SUMMARY:EMHS Winter Concert Make Up Date
URL;VALUE=URI:https://www.sau14.org/emhs/calendar/8628768/emhs-winter-conce
 rt-make-up-date
DTSTART:20251217T230000Z
DTEND:20251218T010000Z
END:VEVENT
END:VCALENDAR
