BEGIN:VCALENDAR
VERSION:2.0
PRODID:SchoolNow
CALSCALE:GREGORIAN
BEGIN:VEVENT
UID:0d8d2d0c-930b-11f0-bca9-0a58a9feac02
DTSTAMP:20251217T020514Z
SUMMARY:Drama Club Rehearsal at the Theater
LOCATION:Epping Playhouse
URL;VALUE=URI:https://www.sau14.org/emhs/calendar/8628769/drama-club-rehear
 sal-at-the-theater
DTSTART:20260129T193000Z
DTEND:20260129T213000Z
END:VEVENT
END:VCALENDAR
