BEGIN:VCALENDAR
VERSION:2.0
PRODID:SchoolNow
CALSCALE:GREGORIAN
BEGIN:VEVENT
UID:0d8d2e06-930b-11f0-9757-0a58a9feac02
DTSTAMP:20251217T020514Z
SUMMARY:Tempo Bake Sale
LOCATION:Allen Gym Foyer
URL;VALUE=URI:https://www.sau14.org/emhs/calendar/8628770/tempo-bake-sale
DTSTART:20251216T230000Z
DTEND:20251217T000000Z
END:VEVENT
END:VCALENDAR
