BEGIN:VCALENDAR
VERSION:2.0
PRODID:SchoolNow
CALSCALE:GREGORIAN
BEGIN:VEVENT
UID:0d8d30f4-930b-11f0-a029-0a58a9feac02
DTSTAMP:20251217T020514Z
SUMMARY:MIOSM Make -Up Date
LOCATION:O'Day Gym
URL;VALUE=URI:https://www.sau14.org/emhs/calendar/8628773/miosm-make-up-dat
 e
DTSTART:20260313T220000Z
DTEND:20260314T000000Z
END:VEVENT
END:VCALENDAR
