BEGIN:VCALENDAR
VERSION:2.0
PRODID:SchoolNow
CALSCALE:GREGORIAN
BEGIN:VEVENT
UID:0d8d31f8-930b-11f0-a11a-0a58a9feac02
DTSTAMP:20251217T020514Z
SUMMARY:Tempo Bake Sale
LOCATION:O'Day
URL;VALUE=URI:https://www.sau14.org/emhs/calendar/8628774/tempo-bake-sale
DTSTART:20260313T220000Z
DTEND:20260314T000000Z
END:VEVENT
END:VCALENDAR
