BEGIN:VCALENDAR
VERSION:2.0
PRODID:SchoolNow
CALSCALE:GREGORIAN
BEGIN:VEVENT
UID:0d8d32e8-930b-11f0-8897-0a58a9feac02
DTSTAMP:20251217T020514Z
SUMMARY:Tempo Bake Sale
LOCATION:Allen Gym Foyer
URL;VALUE=URI:https://www.sau14.org/emhs/calendar/8628775/tempo-bake-sale
DTSTART:20260512T220000Z
DTEND:20260513T000000Z
END:VEVENT
END:VCALENDAR
