BEGIN:VCALENDAR
VERSION:2.0
PRODID:SchoolNow
CALSCALE:GREGORIAN
BEGIN:VEVENT
UID:0da60f20-930b-11f0-9e68-0a58a9feac02
DTSTAMP:20251217T020515Z
SUMMARY:Drama Club
LOCATION:Stage
URL;VALUE=URI:https://www.sau14.org/emhs/calendar/8628777/drama-club
DTSTART:20251016T183000Z
DTEND:20251016T193000Z
END:VEVENT
END:VCALENDAR
