BEGIN:VCALENDAR
VERSION:2.0
PRODID:SchoolNow
CALSCALE:GREGORIAN
BEGIN:VEVENT
UID:0da61164-930b-11f0-9525-0a58a9feac02
DTSTAMP:20251217T020515Z
SUMMARY:Drama Club
LOCATION:Stage
URL;VALUE=URI:https://www.sau14.org/emhs/calendar/8628779/drama-club
DTSTART:20251030T183000Z
DTEND:20251030T193000Z
END:VEVENT
END:VCALENDAR
