BEGIN:VCALENDAR
VERSION:2.0
PRODID:SchoolNow
CALSCALE:GREGORIAN
BEGIN:VEVENT
UID:0da61524-930b-11f0-be45-0a58a9feac02
DTSTAMP:20251217T020515Z
SUMMARY:Drama Club
LOCATION:Stage
URL;VALUE=URI:https://www.sau14.org/emhs/calendar/8628783/drama-club
DTSTART:20251204T193000Z
DTEND:20251204T203000Z
END:VEVENT
END:VCALENDAR
