BEGIN:VCALENDAR
VERSION:2.0
PRODID:SchoolNow
CALSCALE:GREGORIAN
BEGIN:VEVENT
UID:0da61614-930b-11f0-83bd-0a58a9feac02
DTSTAMP:20251217T020515Z
SUMMARY:Drama Club
LOCATION:Stage
URL;VALUE=URI:https://www.sau14.org/emhs/calendar/8628784/drama-club
DTSTART:20251211T193000Z
DTEND:20251211T203000Z
END:VEVENT
END:VCALENDAR
