BEGIN:VCALENDAR
VERSION:2.0
PRODID:SchoolNow
CALSCALE:GREGORIAN
BEGIN:VEVENT
UID:0da61e20-930b-11f0-b6f3-0a58a9feac02
DTSTAMP:20251217T020515Z
SUMMARY:Calendar Gift Cards Fundraiser for DC/NC - Grades 6-8
URL;VALUE=URI:https://www.sau14.org/emhs/calendar/8628793/calendar-gift-car
 ds-fundraiser-for-dc-nc-grades-6-8
DTSTART;VALUE=DATE:20251105
DTEND;VALUE=DATE:20251106
END:VEVENT
END:VCALENDAR
