BEGIN:VCALENDAR
VERSION:2.0
PRODID:SchoolNow
CALSCALE:GREGORIAN
BEGIN:VEVENT
UID:0dbb4462-930b-11f0-aab6-0a58a9feac02
DTSTAMP:20251217T020515Z
SUMMARY:Calendar Gift Cards Fundraiser for DC/NC - Grades 6-8
URL;VALUE=URI:https://www.sau14.org/emhs/calendar/8628814/calendar-gift-car
 ds-fundraiser-for-dc-nc-grades-6-8
DTSTART;VALUE=DATE:20251126
DTEND;VALUE=DATE:20251127
END:VEVENT
END:VCALENDAR
