BEGIN:VCALENDAR
VERSION:2.0
PRODID:SchoolNow
CALSCALE:GREGORIAN
BEGIN:VEVENT
UID:0a04efd4-933e-11f0-926e-0226de13f475
DTSTAMP:20251217T020514Z
SUMMARY:Math Meet
LOCATION:Laura Dodge Cafe
URL;VALUE=URI:https://www.sau14.org/emhs/calendar/8630222/math-meet
DTSTART:20260312T200000Z
DTEND:20260312T211500Z
END:VEVENT
END:VCALENDAR
