BEGIN:VCALENDAR
VERSION:2.0
PRODID:SchoolNow
CALSCALE:GREGORIAN
BEGIN:VEVENT
UID:0a0513ce-933e-11f0-864f-0226de13f475
DTSTAMP:20251217T020514Z
SUMMARY:MS Student Gov't Meeting
URL;VALUE=URI:https://www.sau14.org/emhs/calendar/8630224/ms-student-govt-m
 eeting
DTSTART:20251218T193000Z
DTEND:20251218T203000Z
END:VEVENT
END:VCALENDAR
