BEGIN:VCALENDAR
VERSION:2.0
PRODID:SchoolNow
CALSCALE:GREGORIAN
BEGIN:VEVENT
UID:0a051702-933e-11f0-8875-0226de13f475
DTSTAMP:20251217T020514Z
SUMMARY:MS Student Gov't Meeting
URL;VALUE=URI:https://www.sau14.org/emhs/calendar/8630227/ms-student-govt-m
 eeting
DTSTART:20251023T183000Z
DTEND:20251023T193000Z
END:VEVENT
END:VCALENDAR
