BEGIN:VCALENDAR
VERSION:2.0
PRODID:SchoolNow
CALSCALE:GREGORIAN
BEGIN:VEVENT
UID:0a0519d2-933e-11f0-897d-0226de13f475
DTSTAMP:20251217T020514Z
SUMMARY:MS Student Gov't Meeting
URL;VALUE=URI:https://www.sau14.org/emhs/calendar/8630230/ms-student-govt-m
 eeting
DTSTART:20260528T183000Z
DTEND:20260528T193000Z
END:VEVENT
END:VCALENDAR
