BEGIN:VCALENDAR
VERSION:2.0
PRODID:SchoolNow
CALSCALE:GREGORIAN
BEGIN:VEVENT
UID:0a051ba8-933e-11f0-9d25-0226de13f475
DTSTAMP:20251217T020514Z
SUMMARY:MS Student Gov't Meeting
URL;VALUE=URI:https://www.sau14.org/emhs/calendar/8630232/ms-student-govt-m
 eeting
DTSTART:20260115T193000Z
DTEND:20260115T203000Z
END:VEVENT
END:VCALENDAR
