BEGIN:VCALENDAR
VERSION:2.0
PRODID:SchoolNow
CALSCALE:GREGORIAN
BEGIN:VEVENT
UID:0a051d7e-933e-11f0-aa12-0226de13f475
DTSTAMP:20251217T020514Z
SUMMARY:Smoothie Day - 8th Grade
URL;VALUE=URI:https://www.sau14.org/emhs/calendar/8630234/smoothie-day-8th-
 grade
DTSTART:20251001T123000Z
DTEND:20251001T125500Z
END:VEVENT
END:VCALENDAR
