BEGIN:VCALENDAR
VERSION:2.0
PRODID:SchoolNow
CALSCALE:GREGORIAN
BEGIN:VEVENT
UID:0a257dbc-933e-11f0-8d66-0226de13f475
DTSTAMP:20251217T020516Z
SUMMARY:7th Grade Chocolate Bar Fundraiser
URL;VALUE=URI:https://www.sau14.org/emhs/calendar/8630237/7th-grade-chocola
 te-bar-fundraiser
DTSTART;VALUE=DATE:20251010
DTEND;VALUE=DATE:20251011
END:VEVENT
END:VCALENDAR
