BEGIN:VCALENDAR
VERSION:2.0
PRODID:SchoolNow
CALSCALE:GREGORIAN
BEGIN:VEVENT
UID:0a257fce-933e-11f0-9752-0226de13f475
DTSTAMP:20251217T020516Z
SUMMARY:7th Grade Chocolate Bar Fundraiser
URL;VALUE=URI:https://www.sau14.org/emhs/calendar/8630239/7th-grade-chocola
 te-bar-fundraiser
DTSTART;VALUE=DATE:20251012
DTEND;VALUE=DATE:20251013
END:VEVENT
END:VCALENDAR
