BEGIN:VCALENDAR
VERSION:2.0
PRODID:SchoolNow
CALSCALE:GREGORIAN
BEGIN:VEVENT
UID:0a258744-933e-11f0-b7a2-0226de13f475
DTSTAMP:20251217T020516Z
SUMMARY:7th Grade Chocolate Bar Fundraiser
URL;VALUE=URI:https://www.sau14.org/emhs/calendar/8630247/7th-grade-chocola
 te-bar-fundraiser
DTSTART;VALUE=DATE:20251020
DTEND;VALUE=DATE:20251021
END:VEVENT
END:VCALENDAR
