BEGIN:VCALENDAR
VERSION:2.0
PRODID:SchoolNow
CALSCALE:GREGORIAN
BEGIN:VEVENT
UID:0a25891a-933e-11f0-bc1f-0226de13f475
DTSTAMP:20251217T020516Z
SUMMARY:7th Grade Chocolate Bar Fundraiser
URL;VALUE=URI:https://www.sau14.org/emhs/calendar/8630249/7th-grade-chocola
 te-bar-fundraiser
DTSTART;VALUE=DATE:20251022
DTEND;VALUE=DATE:20251023
END:VEVENT
END:VCALENDAR
