BEGIN:VCALENDAR
VERSION:2.0
PRODID:SchoolNow
CALSCALE:GREGORIAN
BEGIN:VEVENT
UID:0a258af0-933e-11f0-901a-0226de13f475
DTSTAMP:20251217T020516Z
SUMMARY:7th Grade Chocolate Bar Fundraiser
URL;VALUE=URI:https://www.sau14.org/emhs/calendar/8630251/7th-grade-chocola
 te-bar-fundraiser
DTSTART;VALUE=DATE:20251024
DTEND;VALUE=DATE:20251025
END:VEVENT
END:VCALENDAR
