BEGIN:VCALENDAR
VERSION:2.0
PRODID:SchoolNow
CALSCALE:GREGORIAN
BEGIN:VEVENT
UID:0a258bd6-933e-11f0-9252-0226de13f475
DTSTAMP:20251217T020516Z
SUMMARY:7th Grade Chocolate Bar Fundraiser
URL;VALUE=URI:https://www.sau14.org/emhs/calendar/8630252/7th-grade-chocola
 te-bar-fundraiser
DTSTART;VALUE=DATE:20251025
DTEND;VALUE=DATE:20251026
END:VEVENT
END:VCALENDAR
