BEGIN:VCALENDAR
VERSION:2.0
PRODID:SchoolNow
CALSCALE:GREGORIAN
BEGIN:VEVENT
UID:0a258d98-933e-11f0-8992-0226de13f475
DTSTAMP:20251217T020515Z
SUMMARY:6th - 8th After School Art Club
URL;VALUE=URI:https://www.sau14.org/emhs/calendar/8630254/6th-8th-after-sch
 ool-art-club
DTSTART:20251015T183000Z
DTEND:20251015T193000Z
END:VEVENT
END:VCALENDAR
