BEGIN:VCALENDAR
VERSION:2.0
PRODID:SchoolNow
CALSCALE:GREGORIAN
BEGIN:VEVENT
UID:0a25920c-933e-11f0-988f-0226de13f475
DTSTAMP:20251217T020515Z
SUMMARY:6th - 8th After School Art Club
URL;VALUE=URI:https://www.sau14.org/emhs/calendar/8630259/6th-8th-after-sch
 ool-art-club
DTSTART:20251119T193000Z
DTEND:20251119T203000Z
END:VEVENT
END:VCALENDAR
