BEGIN:VCALENDAR
VERSION:2.0
PRODID:SchoolNow
CALSCALE:GREGORIAN
BEGIN:VEVENT
UID:0a259e64-933e-11f0-a512-0226de13f475
DTSTAMP:20251217T020515Z
SUMMARY:6th - 8th After School Art Club
URL;VALUE=URI:https://www.sau14.org/emhs/calendar/8630273/6th-8th-after-sch
 ool-art-club
DTSTART:20260422T183000Z
DTEND:20260422T193000Z
END:VEVENT
END:VCALENDAR
