BEGIN:VCALENDAR
VERSION:2.0
PRODID:SchoolNow
CALSCALE:GREGORIAN
BEGIN:VEVENT
UID:ee56d788-956e-11f0-9b77-0a58a9feac02
DTSTAMP:20251217T020514Z
SUMMARY:NWEA Testing  Grades 6-8
URL;VALUE=URI:https://www.sau14.org/emhs/calendar/8643057/nwea-testing-grad
 es-6-8
DTSTART:20250930T113500Z
DTEND:20250930T150000Z
END:VEVENT
END:VCALENDAR
