BEGIN:VCALENDAR
VERSION:2.0
PRODID:SchoolNow
CALSCALE:GREGORIAN
BEGIN:VEVENT
UID:d4f6485a-976c-11f0-ad38-0a58a9feac02
DTSTAMP:20251217T020515Z
SUMMARY:SCHOOL BOARD MEETING
URL;VALUE=URI:https://www.sau14.org/emhs/calendar/8651517/school-board-meet
 ing
DTSTART:20270520T230000Z
DTEND:20270521T010000Z
END:VEVENT
END:VCALENDAR
