BEGIN:VCALENDAR
VERSION:2.0
PRODID:SchoolNow
CALSCALE:GREGORIAN
BEGIN:VEVENT
UID:21b8cd0e-9d65-11f0-83b0-0e3e74389673
DTSTAMP:20251217T020514Z
SUMMARY:Fall Sports Awards
LOCATION:Allen Gym
URL;VALUE=URI:https://www.sau14.org/emhs/calendar/8677754/fall-sports-award
 s
DTSTART:20251112T230000Z
DTEND:20251113T010000Z
END:VEVENT
END:VCALENDAR
