BEGIN:VCALENDAR
VERSION:2.0
PRODID:SchoolNow
CALSCALE:GREGORIAN
BEGIN:VEVENT
UID:21b8d07e-9d65-11f0-82de-0e3e74389673
DTSTAMP:20251217T020514Z
SUMMARY:Project Grad Meeting
LOCATION:M109
URL;VALUE=URI:https://www.sau14.org/emhs/calendar/8677755/project-grad-meet
 ing
DTSTART:20251002T223000Z
DTEND:20251002T233000Z
END:VEVENT
END:VCALENDAR
