BEGIN:VCALENDAR
VERSION:2.0
PRODID:SchoolNow
CALSCALE:GREGORIAN
BEGIN:VEVENT
UID:21dd971a-9d65-11f0-b364-0e3e74389673
DTSTAMP:20251217T020515Z
SUMMARY:HS Art Club
URL;VALUE=URI:https://www.sau14.org/emhs/calendar/8677757/hs-art-club
DTSTART:20251008T183000Z
DTEND:20251008T193000Z
END:VEVENT
END:VCALENDAR
